BEGIN:VCALENDAR
VERSION:2.0
PRODID:-//wp-events-plugin.com//7.2.3.1//EN
TZID:America/Los_Angeles
X-WR-TIMEZONE:America/Los_Angeles
BEGIN:VEVENT
UID:119@gold-n-ticket.com
DTSTART;TZID=Africa/Abidjan;VALUE=DATE:20080601
DTEND;TZID=Africa/Abidjan;VALUE=DATE:20200604
DTSTAMP:20250403T122314Z
URL:https://gold-n-ticket.com/events/hello/
SUMMARY:Hello
DESCRIPTION:ErmhWkuW gbBuBB OoFZ XrelJ fgur nuKtDqLn NruzRijA
END:VEVENT
BEGIN:VEVENT
UID:120@gold-n-ticket.com
DTSTART;TZID=Africa/Abidjan;VALUE=DATE:20080601
DTEND;TZID=Africa/Abidjan;VALUE=DATE:20200604
DTSTAMP:20250403T122316Z
URL:https://gold-n-ticket.com/events/hello-2/
SUMMARY:Hello
DESCRIPTION:ErmhWkuW gbBuBB OoFZ XrelJ fgur nuKtDqLn NruzRijA
END:VEVENT
BEGIN:VEVENT
UID:121@gold-n-ticket.com
DTSTART;TZID=Africa/Abidjan;VALUE=DATE:20080601
DTEND;TZID=Africa/Abidjan;VALUE=DATE:20200604
DTSTAMP:20250403T122318Z
URL:https://gold-n-ticket.com/events/hello-3/
SUMMARY:Hello
DESCRIPTION:ErmhWkuW gbBuBB OoFZ XrelJ fgur nuKtDqLn NruzRijA
END:VEVENT
BEGIN:VEVENT
UID:122@gold-n-ticket.com
DTSTART;TZID=Africa/Abidjan;VALUE=DATE:20080601
DTEND;TZID=Africa/Abidjan;VALUE=DATE:20200604
DTSTAMP:20250403T122322Z
URL:https://gold-n-ticket.com/events/hello-4/
SUMMARY:Hello
DESCRIPTION:ErmhWkuW gbBuBB OoFZ XrelJ fgur nuKtDqLn NruzRijA
END:VEVENT
BEGIN:VEVENT
UID:123@gold-n-ticket.com
DTSTART;TZID=Africa/Abidjan;VALUE=DATE:20080601
DTEND;TZID=Africa/Abidjan;VALUE=DATE:20200604
DTSTAMP:20250403T122325Z
URL:https://gold-n-ticket.com/events/hello-5/
SUMMARY:Hello
DESCRIPTION:ErmhWkuW gbBuBB OoFZ XrelJ fgur nuKtDqLn NruzRijA
END:VEVENT
BEGIN:VEVENT
UID:124@gold-n-ticket.com
DTSTART;TZID=Africa/Abidjan;VALUE=DATE:20080601
DTEND;TZID=Africa/Abidjan;VALUE=DATE:20200604
DTSTAMP:20250403T122328Z
URL:https://gold-n-ticket.com/events/hello-6/
SUMMARY:Hello
DESCRIPTION:ErmhWkuW gbBuBB OoFZ XrelJ fgur nuKtDqLn NruzRijA
END:VEVENT
BEGIN:VEVENT
UID:5@gold-n-ticket.com
DTSTART;TZID=America/Kentucky/Monticello:20230606T000000
DTEND;TZID=America/Kentucky/Monticello:20230606T000000
DTSTAMP:20230615T184025Z
URL:https://gold-n-ticket.com/events/maheen-5/
SUMMARY:Maheen
DESCRIPTION:
END:VEVENT
BEGIN:VEVENT
UID:4@gold-n-ticket.com
DTSTART;TZID=America/Kentucky/Monticello:20230606T000000
DTEND;TZID=America/Kentucky/Monticello:20230606T000000
DTSTAMP:20230614T222306Z
URL:https://gold-n-ticket.com/events/maheen-4/
SUMMARY:Maheen
DESCRIPTION:
END:VEVENT
BEGIN:VEVENT
UID:2@gold-n-ticket.com
DTSTART;TZID=America/Kentucky/Monticello;VALUE=DATE:20230607
DTEND;TZID=America/Kentucky/Monticello;VALUE=DATE:20230608
DTSTAMP:20230610T210249Z
URL:https://gold-n-ticket.com/events/maheen-2/
SUMMARY:Maheen
DESCRIPTION:Hii
END:VEVENT
BEGIN:VEVENT
UID:3@gold-n-ticket.com
DTSTART;TZID=America/Kralendijk:20230608T000000
DTEND;TZID=America/Kralendijk:20230608T000000
DTSTAMP:20230610T210459Z
URL:https://gold-n-ticket.com/events/maheen-3/
SUMMARY:Maheen
DESCRIPTION:dmd
END:VEVENT
BEGIN:VEVENT
UID:8@gold-n-ticket.com
DTSTART;TZID=America/La_Paz:20230617T000000
DTEND;TZID=America/La_Paz:20230617T000000
DTSTAMP:20230628T004518Z
URL:https://gold-n-ticket.com/events/maheen-8/
SUMMARY:Maheen
DESCRIPTION:xyz
END:VEVENT
BEGIN:VEVENT
UID:1@gold-n-ticket.com
DTSTART;TZID=America/Los_Angeles:20230620T000000
DTEND;TZID=America/Los_Angeles:20230621T000000
DTSTAMP:20230608T220317Z
URL:https://gold-n-ticket.com/events/maheen/
SUMMARY:Maheen
DESCRIPTION:Hii
END:VEVENT
BEGIN:VEVENT
UID:6@gold-n-ticket.com
DTSTART;TZID=America/Los_Angeles:20230622T000000
DTEND;TZID=America/Los_Angeles:20230622T000000
DTSTAMP:20230622T192902Z
URL:https://gold-n-ticket.com/events/maheen-6/
SUMMARY:Maheen
DESCRIPTION:djdjd
END:VEVENT
BEGIN:VEVENT
UID:7@gold-n-ticket.com
DTSTART;TZID=America/Los_Angeles:20230622T000000
DTEND;TZID=America/Los_Angeles:20230622T000000
DTSTAMP:20230622T192903Z
URL:https://gold-n-ticket.com/events/maheen-7/
SUMMARY:Maheen
DESCRIPTION:djdjd
END:VEVENT
BEGIN:VEVENT
UID:9@gold-n-ticket.com
DTSTART;TZID=America/Los_Angeles:20230707T000000
DTEND;TZID=America/Los_Angeles:20230729T000000
DTSTAMP:20230709T023643Z
URL:https://gold-n-ticket.com/events/tes/
SUMMARY:Tes
DESCRIPTION:
END:VEVENT
BEGIN:VEVENT
UID:10@gold-n-ticket.com
DTSTART;VALUE=DATE:20240920
DTEND;VALUE=DATE:20240921
DTSTAMP:20240920T105035Z
URL:https://gold-n-ticket.com/events/zoybhrbkgrl/
SUMMARY:ZoyBhRbkGRL
DESCRIPTION:
END:VEVENT
BEGIN:VEVENT
UID:11@gold-n-ticket.com
DTSTART;VALUE=DATE:20241007
DTEND;VALUE=DATE:20241008
DTSTAMP:20241007T014437Z
URL:https://gold-n-ticket.com/events/arififasimd/
SUMMARY:ARIfIFaSIMD
DESCRIPTION:
END:VEVENT
BEGIN:VEVENT
UID:12@gold-n-ticket.com
DTSTART;VALUE=DATE:20241023
DTEND;VALUE=DATE:20241024
DTSTAMP:20241023T055249Z
URL:https://gold-n-ticket.com/events/uhflknkqy/
SUMMARY:UHFlknKqY
DESCRIPTION:
END:VEVENT
BEGIN:VEVENT
UID:13@gold-n-ticket.com
DTSTART;VALUE=DATE:20241031
DTEND;VALUE=DATE:20241101
DTSTAMP:20241031T012726Z
URL:https://gold-n-ticket.com/events/bedhxxcu/
SUMMARY:bedHXxcu
DESCRIPTION:
END:VEVENT
BEGIN:VEVENT
UID:14@gold-n-ticket.com
DTSTART;VALUE=DATE:20241106
DTEND;VALUE=DATE:20241107
DTSTAMP:20241106T122559Z
URL:https://gold-n-ticket.com/events/nrishsxqevmlu/
SUMMARY:NRishsXQeVMlU
DESCRIPTION:
END:VEVENT
BEGIN:VEVENT
UID:15@gold-n-ticket.com
DTSTART;VALUE=DATE:20241108
DTEND;VALUE=DATE:20241109
DTSTAMP:20241108T061805Z
URL:https://gold-n-ticket.com/events/jktvjysf/
SUMMARY:jkTvJYSF
DESCRIPTION:
END:VEVENT
BEGIN:VEVENT
UID:16@gold-n-ticket.com
DTSTART;VALUE=DATE:20241109
DTEND;VALUE=DATE:20241110
DTSTAMP:20241109T044336Z
URL:https://gold-n-ticket.com/events/hicmoztgkyni/
SUMMARY:HIcMOzTgkYnI
DESCRIPTION:
END:VEVENT
BEGIN:VEVENT
UID:18@gold-n-ticket.com
DTSTART;VALUE=DATE:20241110
DTEND;VALUE=DATE:20241111
DTSTAMP:20241110T154248Z
URL:https://gold-n-ticket.com/events/nyabqamntxxt/
SUMMARY:NYaBQaMnTXxT
DESCRIPTION:
END:VEVENT
BEGIN:VEVENT
UID:17@gold-n-ticket.com
DTSTART;VALUE=DATE:20241110
DTEND;VALUE=DATE:20241111
DTSTAMP:20241109T225026Z
URL:https://gold-n-ticket.com/events/fzazpaenwkl/
SUMMARY:FzazpaeNwKl
DESCRIPTION:
END:VEVENT
BEGIN:VEVENT
UID:19@gold-n-ticket.com
DTSTART;VALUE=DATE:20241111
DTEND;VALUE=DATE:20241112
DTSTAMP:20241111T093948Z
URL:https://gold-n-ticket.com/events/phmrrbpdkqb/
SUMMARY:pHmrrBPDkqB
DESCRIPTION:
END:VEVENT
BEGIN:VEVENT
UID:20@gold-n-ticket.com
DTSTART;VALUE=DATE:20241112
DTEND;VALUE=DATE:20241113
DTSTAMP:20241112T040924Z
URL:https://gold-n-ticket.com/events/giehiwdqj/
SUMMARY:gieHiwdQJ
DESCRIPTION:
END:VEVENT
BEGIN:VEVENT
UID:21@gold-n-ticket.com
DTSTART;VALUE=DATE:20241113
DTEND;VALUE=DATE:20241114
DTSTAMP:20241113T032043Z
URL:https://gold-n-ticket.com/events/ayinhzomwdhfaxe/
SUMMARY:ayINHzOmwDhFaXE
DESCRIPTION:
END:VEVENT
BEGIN:VEVENT
UID:22@gold-n-ticket.com
DTSTART;VALUE=DATE:20241114
DTEND;VALUE=DATE:20241115
DTSTAMP:20241114T002632Z
URL:https://gold-n-ticket.com/events/jgdoifppugafj/
SUMMARY:JgdoIFPpUgAFj
DESCRIPTION:
END:VEVENT
BEGIN:VEVENT
UID:23@gold-n-ticket.com
DTSTART;VALUE=DATE:20241115
DTEND;VALUE=DATE:20241116
DTSTAMP:20241114T222048Z
URL:https://gold-n-ticket.com/events/yczkkfejiabwnq/
SUMMARY:YCzkkFEJiabwNq
DESCRIPTION:
END:VEVENT
BEGIN:VEVENT
UID:24@gold-n-ticket.com
DTSTART;VALUE=DATE:20241115
DTEND;VALUE=DATE:20241116
DTSTAMP:20241115T192440Z
URL:https://gold-n-ticket.com/events/pynvuemwa/
SUMMARY:PYnvuemwa
DESCRIPTION:
END:VEVENT
BEGIN:VEVENT
UID:25@gold-n-ticket.com
DTSTART;VALUE=DATE:20241116
DTEND;VALUE=DATE:20241117
DTSTAMP:20241116T151602Z
URL:https://gold-n-ticket.com/events/nlzgdxjwbsaw/
SUMMARY:NLzGdxjwbsAw
DESCRIPTION:
END:VEVENT
BEGIN:VEVENT
UID:26@gold-n-ticket.com
DTSTART;VALUE=DATE:20241118
DTEND;VALUE=DATE:20241119
DTSTAMP:20241117T232124Z
URL:https://gold-n-ticket.com/events/yyltjiccztzakft/
SUMMARY:yYLtjiCcZtZakFT
DESCRIPTION:
END:VEVENT
BEGIN:VEVENT
UID:27@gold-n-ticket.com
DTSTART;VALUE=DATE:20241119
DTEND;VALUE=DATE:20241120
DTSTAMP:20241119T061219Z
URL:https://gold-n-ticket.com/events/gjwexxcjthgrm/
SUMMARY:GjwexxcJTHGrm
DESCRIPTION:
END:VEVENT
BEGIN:VEVENT
UID:28@gold-n-ticket.com
DTSTART;VALUE=DATE:20241122
DTEND;VALUE=DATE:20241123
DTSTAMP:20241122T161129Z
URL:https://gold-n-ticket.com/events/bboriiahxt/
SUMMARY:BboRiiahxt
DESCRIPTION:
END:VEVENT
BEGIN:VEVENT
UID:29@gold-n-ticket.com
DTSTART;VALUE=DATE:20241124
DTEND;VALUE=DATE:20241125
DTSTAMP:20241124T034355Z
URL:https://gold-n-ticket.com/events/gvalsctlwiapjz/
SUMMARY:gVALScTlWIapJz
DESCRIPTION:
END:VEVENT
BEGIN:VEVENT
UID:30@gold-n-ticket.com
DTSTART;VALUE=DATE:20241125
DTEND;VALUE=DATE:20241126
DTSTAMP:20241125T004714Z
URL:https://gold-n-ticket.com/events/bqcphfhobtn/
SUMMARY:BQcPhFHoBTN
DESCRIPTION:
END:VEVENT
BEGIN:VEVENT
UID:31@gold-n-ticket.com
DTSTART;VALUE=DATE:20241126
DTEND;VALUE=DATE:20241127
DTSTAMP:20241125T222753Z
URL:https://gold-n-ticket.com/events/ispxiciyt/
SUMMARY:iSpXIciYt
DESCRIPTION:
END:VEVENT
BEGIN:VEVENT
UID:32@gold-n-ticket.com
DTSTART;VALUE=DATE:20241127
DTEND;VALUE=DATE:20241128
DTSTAMP:20241126T211212Z
URL:https://gold-n-ticket.com/events/eeylbzcreeksr/
SUMMARY:eeylBzCrEeKsr
DESCRIPTION:
END:VEVENT
BEGIN:VEVENT
UID:33@gold-n-ticket.com
DTSTART;VALUE=DATE:20241127
DTEND;VALUE=DATE:20241128
DTSTAMP:20241127T185334Z
URL:https://gold-n-ticket.com/events/cghfldxldo/
SUMMARY:CGHflDXLDo
DESCRIPTION:
END:VEVENT
BEGIN:VEVENT
UID:34@gold-n-ticket.com
DTSTART;VALUE=DATE:20241129
DTEND;VALUE=DATE:20241130
DTSTAMP:20241129T122011Z
URL:https://gold-n-ticket.com/events/redqqaxe/
SUMMARY:rEdqqAxe
DESCRIPTION:
END:VEVENT
BEGIN:VEVENT
UID:35@gold-n-ticket.com
DTSTART;VALUE=DATE:20241130
DTEND;VALUE=DATE:20241201
DTSTAMP:20241130T071016Z
URL:https://gold-n-ticket.com/events/bsnkwhsalihbxay/
SUMMARY:BsNkWHSaLihbXAY
DESCRIPTION:
END:VEVENT
BEGIN:VEVENT
UID:37@gold-n-ticket.com
DTSTART;VALUE=DATE:20241201
DTEND;VALUE=DATE:20241202
DTSTAMP:20241201T193743Z
URL:https://gold-n-ticket.com/events/qnjrpmmn/
SUMMARY:QNJRPmmn
DESCRIPTION:
END:VEVENT
BEGIN:VEVENT
UID:36@gold-n-ticket.com
DTSTART;VALUE=DATE:20241201
DTEND;VALUE=DATE:20241202
DTSTAMP:20241201T015932Z
URL:https://gold-n-ticket.com/events/tdfgomqugraeaml/
SUMMARY:TDFgOmQugraeaML
DESCRIPTION:
END:VEVENT
BEGIN:VEVENT
UID:38@gold-n-ticket.com
DTSTART;VALUE=DATE:20241203
DTEND;VALUE=DATE:20241204
DTSTAMP:20241203T054512Z
URL:https://gold-n-ticket.com/events/vaksicidycwfzc/
SUMMARY:vakSIcIdyCWFZc
DESCRIPTION:
END:VEVENT
BEGIN:VEVENT
UID:39@gold-n-ticket.com
DTSTART;VALUE=DATE:20241204
DTEND;VALUE=DATE:20241205
DTSTAMP:20241204T001656Z
URL:https://gold-n-ticket.com/events/gvxxsqlothjf/
SUMMARY:gvXxSqlOThjF
DESCRIPTION:
END:VEVENT
BEGIN:VEVENT
UID:40@gold-n-ticket.com
DTSTART;VALUE=DATE:20241204
DTEND;VALUE=DATE:20241205
DTSTAMP:20241204T150452Z
URL:https://gold-n-ticket.com/events/fmborswwmkq/
SUMMARY:FMBOrSwWmKQ
DESCRIPTION:
END:VEVENT
BEGIN:VEVENT
UID:41@gold-n-ticket.com
DTSTART;VALUE=DATE:20241205
DTEND;VALUE=DATE:20241206
DTSTAMP:20241205T093635Z
URL:https://gold-n-ticket.com/events/xzvyvzmahwsq/
SUMMARY:xZVyvZmAhwSq
DESCRIPTION:
END:VEVENT
BEGIN:VEVENT
UID:42@gold-n-ticket.com
DTSTART;VALUE=DATE:20241206
DTEND;VALUE=DATE:20241207
DTSTAMP:20241206T060405Z
URL:https://gold-n-ticket.com/events/liisqffhlrz/
SUMMARY:LiiSqFfHLrZ
DESCRIPTION:
END:VEVENT
BEGIN:VEVENT
UID:44@gold-n-ticket.com
DTSTART;VALUE=DATE:20241207
DTEND;VALUE=DATE:20241208
DTSTAMP:20241207T182550Z
URL:https://gold-n-ticket.com/events/piiwyjxoqmx/
SUMMARY:PIiWYJxoqMX
DESCRIPTION:
END:VEVENT
BEGIN:VEVENT
UID:43@gold-n-ticket.com
DTSTART;VALUE=DATE:20241207
DTEND;VALUE=DATE:20241208
DTSTAMP:20241207T003603Z
URL:https://gold-n-ticket.com/events/bogdmxdr/
SUMMARY:BogdMxdR
DESCRIPTION:
END:VEVENT
BEGIN:VTIMEZONE
TZID:Africa/Abidjan
X-LIC-LOCATION:Africa/Abidjan
BEGIN:STANDARD
DTSTART:20070602T000000
TZOFFSETFROM:+0000
TZOFFSETTO:+0000
TZNAME:GMT
END:STANDARD
END:VTIMEZONE
BEGIN:VTIMEZONE
TZID:America/Kentucky/Monticello
X-LIC-LOCATION:America/Kentucky/Monticello
BEGIN:DAYLIGHT
DTSTART:20230312T030000
TZOFFSETFROM:-0500
TZOFFSETTO:-0400
TZNAME:EDT
END:DAYLIGHT
END:VTIMEZONE
BEGIN:VTIMEZONE
TZID:America/Kralendijk
X-LIC-LOCATION:America/Kralendijk
BEGIN:STANDARD
DTSTART:20220608T000000
TZOFFSETFROM:-0400
TZOFFSETTO:-0400
TZNAME:AST
END:STANDARD
END:VTIMEZONE
BEGIN:VTIMEZONE
TZID:America/La_Paz
X-LIC-LOCATION:America/La_Paz
BEGIN:STANDARD
DTSTART:20220617T000000
TZOFFSETFROM:-0400
TZOFFSETTO:-0400
TZNAME:-04
END:STANDARD
END:VTIMEZONE
BEGIN:VTIMEZONE
TZID:America/Los_Angeles
X-LIC-LOCATION:America/Los_Angeles
BEGIN:DAYLIGHT
DTSTART:20230312T030000
TZOFFSETFROM:-0800
TZOFFSETTO:-0700
TZNAME:PDT
END:DAYLIGHT
END:VTIMEZONE
END:VCALENDAR